BEGIN:VCALENDAR
VERSION:2.0
PRODID:-//Library Market//iCal Export//EN
BEGIN:VEVENT
SUMMARY:BEDAZZLE A BOOK
UID:4385
DTSTAMP:20260424T072900Z
DTSTART:20260707T213000Z
DTEND:20260707T233000Z
LOCATION:832 S Lincoln Ave, Lakeview, MI 48850, United States
ROOM: Tamarack Room
DESCRIPTION:Add some sparkle to your reading with our Bedazzle A Book clas
 s! Diamond paint the title and a small embellishment to make your book uni
 quely yours. Please bring your own book (preferably without a book jacket)
  — all other supplies will be provided.Ages 13 and up. Registration is r
 equired. Space is limited.
URL:https://www.tamaracklibrary.org/event/bedazzle-book-4385
END:VEVENT
END:VCALENDAR
