BEGIN:VCALENDAR
VERSION:2.0
PRODID:-//Library Market//iCal Export//EN
BEGIN:VEVENT
SUMMARY:Lakeview Connection to U.S. History  TDL Lunch and Learn
UID:4216
DTSTAMP:20260424T122000Z
DTSTART:20260629T160000Z
DTEND:20260629T170000Z
LOCATION:832 S Lincoln Ave, Lakeview, MI 48850, United States
ROOM: Tamarack Room
DESCRIPTION:TDL Lunch and Learn  Celebrate our Country&#039;s 250th  Sem
 iquincentennial Lakeview Connections to U.S. HistoryCelebrate our country
 ’s Semiquincentennial (250th Anniversary) by joining Steve Charnley on a
  journey through Lakeview’s past with notable connections to important e
 vents in our nation’s history. This presentation is adapted from his rec
 ent LHS Dual Enrollment Class for Montcalm Community College. The high sch
 ool students were amazed at how our little village was connected to signif
 icant events in our national narrative. We know you will be as well, so do
 n’t miss it!  This is a Lunch and Learn Program. Please bring a sack l
 unch with you.   
URL:https://www.tamaracklibrary.org/event/steve-charnley-program-250-birth
 dday-usa-4216
END:VEVENT
END:VCALENDAR
